BEGIN:VCALENDAR
VERSION:2.0
PRODID:-//Jos Weiß Schule Reutlingen - ECPv6.15.20//NONSGML v1.0//EN
CALSCALE:GREGORIAN
METHOD:PUBLISH
X-WR-CALNAME:Jos Weiß Schule Reutlingen
X-ORIGINAL-URL:https://www.jos-weiss-schule.de
X-WR-CALDESC:Veranstaltungen für Jos Weiß Schule Reutlingen
REFRESH-INTERVAL;VALUE=DURATION:PT1H
X-Robots-Tag:noindex
X-PUBLISHED-TTL:PT1H
BEGIN:VTIMEZONE
TZID:Europe/Berlin
BEGIN:DAYLIGHT
TZOFFSETFROM:+0100
TZOFFSETTO:+0200
TZNAME:CEST
DTSTART:20250330T010000
END:DAYLIGHT
BEGIN:STANDARD
TZOFFSETFROM:+0200
TZOFFSETTO:+0100
TZNAME:CET
DTSTART:20251026T010000
END:STANDARD
BEGIN:DAYLIGHT
TZOFFSETFROM:+0100
TZOFFSETTO:+0200
TZNAME:CEST
DTSTART:20260329T010000
END:DAYLIGHT
BEGIN:STANDARD
TZOFFSETFROM:+0200
TZOFFSETTO:+0100
TZNAME:CET
DTSTART:20261025T010000
END:STANDARD
BEGIN:DAYLIGHT
TZOFFSETFROM:+0100
TZOFFSETTO:+0200
TZNAME:CEST
DTSTART:20270328T010000
END:DAYLIGHT
BEGIN:STANDARD
TZOFFSETFROM:+0200
TZOFFSETTO:+0100
TZNAME:CET
DTSTART:20271031T010000
END:STANDARD
END:VTIMEZONE
BEGIN:VEVENT
DTSTART;VALUE=DATE:20260420
DTEND;VALUE=DATE:20260501
DTSTAMP:20260422T125811
CREATED:20251017T091817Z
LAST-MODIFIED:20251017T091817Z
UID:4795-1776643200-1777593599@www.jos-weiss-schule.de
SUMMARY:VERA 3 - Zeitraum
DESCRIPTION:
URL:https://www.jos-weiss-schule.de/event/vera-3-zeitraum/
END:VEVENT
BEGIN:VEVENT
DTSTART;VALUE=DATE:20260501
DTEND;VALUE=DATE:20260502
DTSTAMP:20260422T125811
CREATED:20251017T091901Z
LAST-MODIFIED:20251017T091901Z
UID:4797-1777593600-1777679999@www.jos-weiss-schule.de
SUMMARY:Feiertag (Tag der Arbeit)
DESCRIPTION:
URL:https://www.jos-weiss-schule.de/event/feiertag-tag-der-arbeit-4/
END:VEVENT
BEGIN:VEVENT
DTSTART;VALUE=DATE:20260511
DTEND;VALUE=DATE:20260514
DTSTAMP:20260422T125811
CREATED:20251017T091946Z
LAST-MODIFIED:20251017T091946Z
UID:4799-1778457600-1778716799@www.jos-weiss-schule.de
SUMMARY:Projekttage
DESCRIPTION:
URL:https://www.jos-weiss-schule.de/event/projekttage/
END:VEVENT
BEGIN:VEVENT
DTSTART;VALUE=DATE:20260514
DTEND;VALUE=DATE:20260515
DTSTAMP:20260422T125811
CREATED:20251017T092029Z
LAST-MODIFIED:20251017T092029Z
UID:4801-1778716800-1778803199@www.jos-weiss-schule.de
SUMMARY:Feiertag (Christi Himmelfahrt)
DESCRIPTION:
URL:https://www.jos-weiss-schule.de/event/feiertag-christi-himmelfahrt-4/
END:VEVENT
BEGIN:VEVENT
DTSTART;VALUE=DATE:20260515
DTEND;VALUE=DATE:20260516
DTSTAMP:20260422T125811
CREATED:20251017T092100Z
LAST-MODIFIED:20251017T092100Z
UID:4803-1778803200-1778889599@www.jos-weiss-schule.de
SUMMARY:Beweglicher Ferientag
DESCRIPTION:
URL:https://www.jos-weiss-schule.de/event/beweglicher-ferientag-3/
END:VEVENT
BEGIN:VEVENT
DTSTART;VALUE=DATE:20260523
DTEND;VALUE=DATE:20260608
DTSTAMP:20260422T125811
CREATED:20251017T090902Z
LAST-MODIFIED:20251017T090902Z
UID:4781-1779494400-1780876799@www.jos-weiss-schule.de
SUMMARY:Pfingstferien
DESCRIPTION:
URL:https://www.jos-weiss-schule.de/event/pfingstferien-4/
END:VEVENT
BEGIN:VEVENT
DTSTART;VALUE=DATE:20260704
DTEND;VALUE=DATE:20260705
DTSTAMP:20260422T125811
CREATED:20251017T092215Z
LAST-MODIFIED:20251017T092215Z
UID:4805-1783123200-1783209599@www.jos-weiss-schule.de
SUMMARY:Altstadtlauf
DESCRIPTION:
URL:https://www.jos-weiss-schule.de/event/altstadtlauf-3/
END:VEVENT
BEGIN:VEVENT
DTSTART;TZID=Europe/Berlin:20260714T190000
DTEND;TZID=Europe/Berlin:20260714T200000
DTSTAMP:20260422T125811
CREATED:20251017T092317Z
LAST-MODIFIED:20251017T092317Z
UID:4807-1784055600-1784059200@www.jos-weiss-schule.de
SUMMARY:Erster Elternabend Erstklässler 2026
DESCRIPTION:
URL:https://www.jos-weiss-schule.de/event/erster-elternabend-erstklaessler-2026/
END:VEVENT
BEGIN:VEVENT
DTSTART;TZID=Europe/Berlin:20260722T143000
DTEND;TZID=Europe/Berlin:20260722T153000
DTSTAMP:20260422T125811
CREATED:20251017T092412Z
LAST-MODIFIED:20251017T092412Z
UID:4809-1784730600-1784734200@www.jos-weiss-schule.de
SUMMARY:Schnuppernachmittag für neue Erstklässler
DESCRIPTION:
URL:https://www.jos-weiss-schule.de/event/schnuppernachmittag-fuer-neue-erstklaessler/
END:VEVENT
BEGIN:VEVENT
DTSTART;TZID=Europe/Berlin:20260729T080000
DTEND;TZID=Europe/Berlin:20260729T112000
DTSTAMP:20260422T125811
CREATED:20251017T091013Z
LAST-MODIFIED:20251017T091013Z
UID:4783-1785312000-1785324000@www.jos-weiss-schule.de
SUMMARY:Letzter Schultag vor den Sommerferien
DESCRIPTION:Unterrichtsende um 11.20 Uhr (Kein Mittagessen & Betreuung)
URL:https://www.jos-weiss-schule.de/event/letzter-schultag-vor-den-sommerferien-4/
END:VEVENT
BEGIN:VEVENT
DTSTART;VALUE=DATE:20260730
DTEND;VALUE=DATE:20260914
DTSTAMP:20260422T125811
CREATED:20251017T091106Z
LAST-MODIFIED:20251017T091106Z
UID:4785-1785369600-1789343999@www.jos-weiss-schule.de
SUMMARY:Sommerferien
DESCRIPTION:
URL:https://www.jos-weiss-schule.de/event/sommerferien-5/
END:VEVENT
END:VCALENDAR