BEGIN:VCALENDAR
VERSION:2.0
PRODID:-//Jos Weiß Schule Reutlingen - ECPv6.15.20//NONSGML v1.0//EN
CALSCALE:GREGORIAN
METHOD:PUBLISH
X-ORIGINAL-URL:https://www.jos-weiss-schule.de
X-WR-CALDESC:Veranstaltungen für Jos Weiß Schule Reutlingen
REFRESH-INTERVAL;VALUE=DURATION:PT1H
X-Robots-Tag:noindex
X-PUBLISHED-TTL:PT1H
BEGIN:VTIMEZONE
TZID:Europe/Berlin
BEGIN:DAYLIGHT
TZOFFSETFROM:+0100
TZOFFSETTO:+0200
TZNAME:CEST
DTSTART:20240331T010000
END:DAYLIGHT
BEGIN:STANDARD
TZOFFSETFROM:+0200
TZOFFSETTO:+0100
TZNAME:CET
DTSTART:20241027T010000
END:STANDARD
BEGIN:DAYLIGHT
TZOFFSETFROM:+0100
TZOFFSETTO:+0200
TZNAME:CEST
DTSTART:20250330T010000
END:DAYLIGHT
BEGIN:STANDARD
TZOFFSETFROM:+0200
TZOFFSETTO:+0100
TZNAME:CET
DTSTART:20251026T010000
END:STANDARD
BEGIN:DAYLIGHT
TZOFFSETFROM:+0100
TZOFFSETTO:+0200
TZNAME:CEST
DTSTART:20260329T010000
END:DAYLIGHT
BEGIN:STANDARD
TZOFFSETFROM:+0200
TZOFFSETTO:+0100
TZNAME:CET
DTSTART:20261025T010000
END:STANDARD
BEGIN:DAYLIGHT
TZOFFSETFROM:+0100
TZOFFSETTO:+0200
TZNAME:CEST
DTSTART:20270328T010000
END:DAYLIGHT
BEGIN:STANDARD
TZOFFSETFROM:+0200
TZOFFSETTO:+0100
TZNAME:CET
DTSTART:20271031T010000
END:STANDARD
END:VTIMEZONE
BEGIN:VEVENT
DTSTART;VALUE=DATE:20260413
DTEND;VALUE=DATE:20260418
DTSTAMP:20260422T143707
CREATED:20251009T135549Z
LAST-MODIFIED:20251009T135549Z
UID:4765-1776038400-1776470399@www.jos-weiss-schule.de
SUMMARY:Methodentag
DESCRIPTION:In der Woche vom 13.4. bis 17.4.2026 findet in allen Klassen ein Methodentag statt.
URL:https://www.jos-weiss-schule.de/event/methodentag-2/
END:VEVENT
BEGIN:VEVENT
DTSTART;VALUE=DATE:20260328
DTEND;VALUE=DATE:20260413
DTSTAMP:20260422T143707
CREATED:20251017T090759Z
LAST-MODIFIED:20251017T090759Z
UID:4779-1774656000-1776038399@www.jos-weiss-schule.de
SUMMARY:Osterferien
DESCRIPTION:
URL:https://www.jos-weiss-schule.de/event/osterferien-4/
END:VEVENT
BEGIN:VEVENT
DTSTART;VALUE=DATE:20260324
DTEND;VALUE=DATE:20260325
DTSTAMP:20260422T143707
CREATED:20251009T135447Z
LAST-MODIFIED:20251009T135447Z
UID:4763-1774310400-1774396799@www.jos-weiss-schule.de
SUMMARY:Tag der Mathematik
DESCRIPTION:
URL:https://www.jos-weiss-schule.de/event/tag-der-mathematik/
END:VEVENT
BEGIN:VEVENT
DTSTART;TZID=Europe/Berlin:20260319T081500
DTEND;TZID=Europe/Berlin:20260319T093000
DTSTAMP:20260422T143707
CREATED:20251009T135412Z
LAST-MODIFIED:20251009T135412Z
UID:4761-1773908100-1773912600@www.jos-weiss-schule.de
SUMMARY:Känguru-Wettbewerb
DESCRIPTION:
URL:https://www.jos-weiss-schule.de/event/kaenguru-wettbewerb/
END:VEVENT
BEGIN:VEVENT
DTSTART;VALUE=DATE:20260214
DTEND;VALUE=DATE:20260223
DTSTAMP:20260422T143707
CREATED:20251017T090554Z
LAST-MODIFIED:20251017T090554Z
UID:4777-1771027200-1771804799@www.jos-weiss-schule.de
SUMMARY:Faschingsferien
DESCRIPTION:
URL:https://www.jos-weiss-schule.de/event/faschingsferien-4/
END:VEVENT
BEGIN:VEVENT
DTSTART;VALUE=DATE:20260213
DTEND;VALUE=DATE:20260214
DTSTAMP:20260422T143707
CREATED:20251009T134944Z
LAST-MODIFIED:20251009T134944Z
UID:4757-1770940800-1771027199@www.jos-weiss-schule.de
SUMMARY:Faschingsfeier
DESCRIPTION:
URL:https://www.jos-weiss-schule.de/event/faschingsfeier-2/
END:VEVENT
BEGIN:VEVENT
DTSTART;VALUE=DATE:20260108
DTEND;VALUE=DATE:20260109
DTSTAMP:20260422T143707
CREATED:20251009T134840Z
LAST-MODIFIED:20251009T134840Z
UID:4755-1767830400-1767916799@www.jos-weiss-schule.de
SUMMARY:Mutscheltag
DESCRIPTION:Traditionell wird am ersten Donnerstag nach den Weihnachtsferien in allen Klassen „gemutschelt“.
URL:https://www.jos-weiss-schule.de/event/mutscheltag-2/
END:VEVENT
BEGIN:VEVENT
DTSTART;VALUE=DATE:20251220
DTEND;VALUE=DATE:20260107
DTSTAMP:20260422T143707
CREATED:20251017T085549Z
LAST-MODIFIED:20251017T085549Z
UID:4775-1766188800-1767743999@www.jos-weiss-schule.de
SUMMARY:Weihnachtsferien
DESCRIPTION:
URL:https://www.jos-weiss-schule.de/event/weihnachtsferien-4/
END:VEVENT
BEGIN:VEVENT
DTSTART;VALUE=DATE:20251219
DTEND;VALUE=DATE:20251220
DTSTAMP:20260422T143707
CREATED:20251009T134738Z
LAST-MODIFIED:20251009T134738Z
UID:4753-1766102400-1766188799@www.jos-weiss-schule.de
SUMMARY:Letzter Schultag vor den Weihnachtsferien
DESCRIPTION:In der 1./2. Stunde findet für alle Klassen die Schulversammlung statt. Der Unterricht endet um 11.20 Uhr. (kein Mittagessen & Betreuung)
URL:https://www.jos-weiss-schule.de/event/letzter-schultag-vor-den-weihnachtsferien-3/
END:VEVENT
BEGIN:VEVENT
DTSTART;TZID=Europe/Berlin:20251218T080000
DTEND;TZID=Europe/Berlin:20251218T081500
DTSTAMP:20260422T143707
CREATED:20251009T135149Z
LAST-MODIFIED:20251009T135149Z
UID:4759-1766044800-1766045700@www.jos-weiss-schule.de
SUMMARY:Adventssingen
DESCRIPTION:
URL:https://www.jos-weiss-schule.de/event/adventssingen-9/
END:VEVENT
BEGIN:VEVENT
DTSTART;TZID=Europe/Berlin:20251212T083000
DTEND;TZID=Europe/Berlin:20251212T091500
DTSTAMP:20260422T143707
CREATED:20251017T091637Z
LAST-MODIFIED:20251017T091637Z
UID:4793-1765528200-1765530900@www.jos-weiss-schule.de
SUMMARY:Schnupperstunde für Erstklässler 2026
DESCRIPTION:
URL:https://www.jos-weiss-schule.de/event/schnupperstunde-fuer-erstklaessler-2026/
END:VEVENT
BEGIN:VEVENT
DTSTART;TZID=Europe/Berlin:20251211T080000
DTEND;TZID=Europe/Berlin:20251211T081500
DTSTAMP:20260422T143707
CREATED:20251009T134045Z
LAST-MODIFIED:20251009T134045Z
UID:4747-1765440000-1765440900@www.jos-weiss-schule.de
SUMMARY:Adventssingen
DESCRIPTION:
URL:https://www.jos-weiss-schule.de/event/adventssingen-7/
END:VEVENT
BEGIN:VEVENT
DTSTART;TZID=Europe/Berlin:20251204T080000
DTEND;TZID=Europe/Berlin:20251204T081500
DTSTAMP:20260422T143707
CREATED:20251009T133958Z
LAST-MODIFIED:20251009T133958Z
UID:4744-1764835200-1764836100@www.jos-weiss-schule.de
SUMMARY:Adventssingen
DESCRIPTION:
URL:https://www.jos-weiss-schule.de/event/adventssingen-6/
END:VEVENT
BEGIN:VEVENT
DTSTART;TZID=Europe/Berlin:20251203T190000
DTEND;TZID=Europe/Berlin:20251203T200000
DTSTAMP:20260422T143707
CREATED:20251017T091517Z
LAST-MODIFIED:20251017T091517Z
UID:4791-1764788400-1764792000@www.jos-weiss-schule.de
SUMMARY:Info-Abend für Eltern der Erstklässler 2026
DESCRIPTION:
URL:https://www.jos-weiss-schule.de/event/info-abend-fuer-eltern-der-erstklaessler-2026/
END:VEVENT
BEGIN:VEVENT
DTSTART;TZID=Europe/Berlin:20251127T160000
DTEND;TZID=Europe/Berlin:20251127T183000
DTSTAMP:20260422T143707
CREATED:20251009T134124Z
LAST-MODIFIED:20251009T134557Z
UID:4749-1764259200-1764268200@www.jos-weiss-schule.de
SUMMARY:Weihnachtsmarkt
DESCRIPTION:Der JWS-Weihnachtsmarkt findet traditionell immer am Donnerstag vor dem ersten Advent auf dem kleinen Schulhof statt. \nUm 16 Uhr wird der Weihnachtsmarkt mit musikalischen Beiträgen eröffnet\, danach beginnt dann der Verkauf an den Ständen. \nWir freuen uns auf zahlreiche Besucher!
URL:https://www.jos-weiss-schule.de/event/adventssingen-8/
END:VEVENT
BEGIN:VEVENT
DTSTART;TZID=Europe/Berlin:20251127T080000
DTEND;TZID=Europe/Berlin:20251127T081500
DTSTAMP:20260422T143707
CREATED:20251008T113848Z
LAST-MODIFIED:20251008T113848Z
UID:4735-1764230400-1764231300@www.jos-weiss-schule.de
SUMMARY:Adventssingen
DESCRIPTION:Das Adventssingen findet ab dem 27.11. bis zu den Weihnachtsferien jeden Donnerstag um 8 Uhr auf dem kleinen Schulhof statt.
URL:https://www.jos-weiss-schule.de/event/adventssingen-5/
END:VEVENT
BEGIN:VEVENT
DTSTART;TZID=Europe/Berlin:20251120T083000
DTEND;TZID=Europe/Berlin:20251120T091500
DTSTAMP:20260422T143707
CREATED:20251017T091412Z
LAST-MODIFIED:20251017T091412Z
UID:4789-1763627400-1763630100@www.jos-weiss-schule.de
SUMMARY:Kompass 4 (Mathematik)
DESCRIPTION:
URL:https://www.jos-weiss-schule.de/event/kompass-4-mathematik/
END:VEVENT
BEGIN:VEVENT
DTSTART;TZID=Europe/Berlin:20251119T083000
DTEND;TZID=Europe/Berlin:20251119T091500
DTSTAMP:20260422T143707
CREATED:20251017T091332Z
LAST-MODIFIED:20251017T091332Z
UID:4787-1763541000-1763543700@www.jos-weiss-schule.de
SUMMARY:Kompass 4 (Deutsch)
DESCRIPTION:
URL:https://www.jos-weiss-schule.de/event/kompass-4-deutsch/
END:VEVENT
BEGIN:VEVENT
DTSTART;VALUE=DATE:20251103
DTEND;VALUE=DATE:20251108
DTSTAMP:20260422T143707
CREATED:20251008T114257Z
LAST-MODIFIED:20251008T114257Z
UID:4738-1762128000-1762559999@www.jos-weiss-schule.de
SUMMARY:Methodentag
DESCRIPTION:In der Woche nach den Herbstferien findet ein Methodentag statt.
URL:https://www.jos-weiss-schule.de/event/methodentag/
END:VEVENT
BEGIN:VEVENT
DTSTART;VALUE=DATE:20251027
DTEND;VALUE=DATE:20251101
DTSTAMP:20260422T143707
CREATED:20240902T112642Z
LAST-MODIFIED:20240902T112642Z
UID:4446-1761523200-1761955199@www.jos-weiss-schule.de
SUMMARY:Ferienbetreuung Herbstferien
DESCRIPTION:
URL:https://www.jos-weiss-schule.de/event/ferienbetreuung-herbstferien-3/
END:VEVENT
BEGIN:VEVENT
DTSTART;VALUE=DATE:20251025
DTEND;VALUE=DATE:20251103
DTSTAMP:20260422T143707
CREATED:20251017T085114Z
LAST-MODIFIED:20251017T085114Z
UID:4771-1761350400-1762127999@www.jos-weiss-schule.de
SUMMARY:Herbstferien
DESCRIPTION:
URL:https://www.jos-weiss-schule.de/event/herbstferien-4/
END:VEVENT
BEGIN:VEVENT
DTSTART;TZID=Europe/Berlin:20251023T190000
DTEND;TZID=Europe/Berlin:20251023T200000
DTSTAMP:20260422T143707
CREATED:20251017T085424Z
LAST-MODIFIED:20251017T085424Z
UID:4773-1761246000-1761249600@www.jos-weiss-schule.de
SUMMARY:Elternabend Klasse 4
DESCRIPTION:
URL:https://www.jos-weiss-schule.de/event/elternabend-klasse-4/
END:VEVENT
BEGIN:VEVENT
DTSTART;VALUE=DATE:20250915
DTEND;VALUE=DATE:20250916
DTSTAMP:20260422T143707
CREATED:20240902T120922Z
LAST-MODIFIED:20240902T120922Z
UID:4474-1757894400-1757980799@www.jos-weiss-schule.de
SUMMARY:Erster Schultag nach den Sommerferien
DESCRIPTION:
URL:https://www.jos-weiss-schule.de/event/erster-schultag-nach-den-sommerferien-2/
END:VEVENT
BEGIN:VEVENT
DTSTART;VALUE=DATE:20250908
DTEND;VALUE=DATE:20250913
DTSTAMP:20260422T143707
CREATED:20240902T112552Z
LAST-MODIFIED:20240902T112552Z
UID:4444-1757289600-1757721599@www.jos-weiss-schule.de
SUMMARY:Ferienbetreuung Sommerferien
DESCRIPTION:
URL:https://www.jos-weiss-schule.de/event/ferienbetreuung-sommerferien-4/
END:VEVENT
BEGIN:VEVENT
DTSTART;VALUE=DATE:20250901
DTEND;VALUE=DATE:20250906
DTSTAMP:20260422T143707
CREATED:20240902T112448Z
LAST-MODIFIED:20240902T112448Z
UID:4442-1756684800-1757116799@www.jos-weiss-schule.de
SUMMARY:Ferienbetreuung Sommerferien
DESCRIPTION:
URL:https://www.jos-weiss-schule.de/event/ferienbetreuung-sommerferien-3/
END:VEVENT
BEGIN:VEVENT
DTSTART;VALUE=DATE:20250731
DTEND;VALUE=DATE:20250915
DTSTAMP:20260422T143707
CREATED:20240902T121109Z
LAST-MODIFIED:20240902T121109Z
UID:4477-1753920000-1757894399@www.jos-weiss-schule.de
SUMMARY:Sommerferien
DESCRIPTION:
URL:https://www.jos-weiss-schule.de/event/sommerferien-4/
END:VEVENT
BEGIN:VEVENT
DTSTART;TZID=Europe/Berlin:20250730T080000
DTEND;TZID=Europe/Berlin:20250730T112000
DTSTAMP:20260422T143707
CREATED:20240802T105930Z
LAST-MODIFIED:20240802T105930Z
UID:4431-1753862400-1753874400@www.jos-weiss-schule.de
SUMMARY:Letzter Schultag vor den Sommerferien
DESCRIPTION:Unterrichtsende um 11.20 Uhr; keine Betreuung
URL:https://www.jos-weiss-schule.de/event/letzter-schultag-vor-den-sommerferien-3/
END:VEVENT
BEGIN:VEVENT
DTSTART;VALUE=DATE:20250705
DTEND;VALUE=DATE:20250706
DTSTAMP:20260422T143707
CREATED:20240902T120601Z
LAST-MODIFIED:20240902T120601Z
UID:4471-1751673600-1751759999@www.jos-weiss-schule.de
SUMMARY:Altstadtlauf
DESCRIPTION:
URL:https://www.jos-weiss-schule.de/event/altstadtlauf-2/
END:VEVENT
BEGIN:VEVENT
DTSTART;VALUE=DATE:20250610
DTEND;VALUE=DATE:20250614
DTSTAMP:20260422T143707
CREATED:20240902T112344Z
LAST-MODIFIED:20240902T112344Z
UID:4440-1749513600-1749859199@www.jos-weiss-schule.de
SUMMARY:Ferienbetreuung Pfingstferien
DESCRIPTION:
URL:https://www.jos-weiss-schule.de/event/ferienbetreuung-pfingstferien-2/
END:VEVENT
BEGIN:VEVENT
DTSTART;VALUE=DATE:20250607
DTEND;VALUE=DATE:20250623
DTSTAMP:20260422T143707
CREATED:20240802T105401Z
LAST-MODIFIED:20240802T105401Z
UID:4427-1749254400-1750636799@www.jos-weiss-schule.de
SUMMARY:Pfingstferien
DESCRIPTION:
URL:https://www.jos-weiss-schule.de/event/pfingstferien-3/
END:VEVENT
END:VCALENDAR